BEGIN:VCALENDAR
VERSION:2.0
PRODID:-//Stratis iCal API//FR
CALSCALE:GREGORIAN
X-WR-CALNAME:Festival littéraire Le Goût des Autres
BEGIN:VEVENT
UID:event-4719
SUMMARY:Festival littéraire Le Goût des Autres
DESCRIPTION:Pendant 4 jours  un festival de podcasts sera diffusé chaque fin d’après-midi aux dates initiales du festival (21 au 24 janvier 2021)  également dans le cadre de la Nuit de la lecture 2021.
DTSTAMP:20210119T094729Z
DTSTART:20210120T230000Z
DTEND:20210123T230000Z
STATUS:CONFIRMED
SEQUENCE:6
BEGIN:VALARM
TRIGGER:-PT30M
DESCRIPTION:Festival littéraire Le Goût des Autres
ACTION:DISPLAY
END:VALARM
END:VEVENT
END:VCALENDAR