BEGIN:VCALENDAR
VERSION:2.0
PRODID:-//Stratis iCal API//FR
CALSCALE:GREGORIAN
X-WR-CALNAME:Cours de danse Afro #9
BEGIN:VEVENT
UID:event-4934
SUMMARY:Cours de danse Afro #9
DESCRIPTION:Résidence de Caucriauville 
DTSTAMP:20220125T143209Z
DTSTART:20220314T173000Z
DTEND:20220314T190000Z
STATUS:CONFIRMED
SEQUENCE:5
BEGIN:VALARM
TRIGGER:-PT30M
DESCRIPTION:Cours de danse Afro #9
ACTION:DISPLAY
END:VALARM
END:VEVENT
END:VCALENDAR