BEGIN:VCALENDAR
VERSION:2.0
PRODID:-//Stratis iCal API//FR
CALSCALE:GREGORIAN
X-WR-CALNAME:Conférence " Netnography in Metaverse"
BEGIN:VEVENT
UID:event-4960
SUMMARY:Conférence " Netnography in Metaverse"
DESCRIPTION: 
DTSTAMP:20220209T154448Z
DTSTART:20220224T090000Z
DTEND:20220224T090000Z
STATUS:CONFIRMED
SEQUENCE:4
BEGIN:VALARM
TRIGGER:-PT30M
DESCRIPTION:Conférence " Netnography in Metaverse"
ACTION:DISPLAY
END:VALARM
END:VEVENT
END:VCALENDAR