BEGIN:VCALENDAR
VERSION:2.0
PRODID:-//Stratis iCal API//FR
CALSCALE:GREGORIAN
X-WR-CALNAME:Forum Entrepreneuriat au féminin 
BEGIN:VEVENT
UID:event-4972
SUMMARY:Forum Entrepreneuriat au féminin 
DESCRIPTION:
DTSTAMP:20220228T093740Z
DTSTART:20220309T090000Z
DTEND:20220309T160000Z
STATUS:CONFIRMED
SEQUENCE:4
BEGIN:VALARM
TRIGGER:-PT30M
DESCRIPTION:Forum Entrepreneuriat au féminin 
ACTION:DISPLAY
END:VALARM
END:VEVENT
END:VCALENDAR