BEGIN:VCALENDAR
VERSION:2.0
PRODID:-//Stratis iCal API//FR
CALSCALE:GREGORIAN
X-WR-CALNAME:Webinaire : Objets connectés et Mastère IoT au Havre
BEGIN:VEVENT
UID:event-4985
SUMMARY:Webinaire : Objets connectés et Mastère IoT au Havre
DESCRIPTION:L’IoT révolutionne nos habitudes  avec la possibilité de contrôler les objets à distance et de les faire communiquer entre eux  générant au passage de nouveaux usages. Face à la forte croissance du marché et des besoins en compétences  La Manu  Ecole Supérieure des Métiers du Numérique organise un webinaire dédié aux enjeux des objets connectés et sur le Mastère Développeur IoT proposé au Havre.
DTSTAMP:20220318T091456Z
DTSTART:20220404T160000Z
DTEND:20220404T170000Z
STATUS:CONFIRMED
SEQUENCE:4
BEGIN:VALARM
TRIGGER:-PT30M
DESCRIPTION:Webinaire : Objets connectés et Mastère IoT au Havre
ACTION:DISPLAY
END:VALARM
END:VEVENT
END:VCALENDAR