BEGIN:VCALENDAR
VERSION:2.0
PRODID:-//Stratis iCal API//FR
CALSCALE:GREGORIAN
X-WR-CALNAME:Journée Portes Ouvertes La Manu 
BEGIN:VEVENT
UID:event-4995
SUMMARY:Journée Portes Ouvertes La Manu 
DESCRIPTION:    
DTSTAMP:20220330T083709Z
DTSTART:20220402T120000Z
DTEND:20220402T150000Z
STATUS:CONFIRMED
SEQUENCE:1
BEGIN:VALARM
TRIGGER:-PT30M
DESCRIPTION:Journée Portes Ouvertes La Manu 
ACTION:DISPLAY
END:VALARM
END:VEVENT
END:VCALENDAR