BEGIN:VCALENDAR
VERSION:2.0
PRODID:-//Stratis iCal API//FR
CALSCALE:GREGORIAN
X-WR-CALNAME:Soirée jeu vidéo FIFA
BEGIN:VEVENT
UID:event-4999
SUMMARY:Soirée jeu vidéo FIFA
DESCRIPTION:Service culture et vie de campus rue Casimir Delavigne le havre
DTSTAMP:20220405T100629Z
DTSTART:20220505T180000Z
DTEND:20220505T210000Z
STATUS:CONFIRMED
SEQUENCE:3
BEGIN:VALARM
TRIGGER:-PT30M
DESCRIPTION:Soirée jeu vidéo FIFA
ACTION:DISPLAY
END:VALARM
END:VEVENT
END:VCALENDAR