BEGIN:VCALENDAR
VERSION:2.0
PRODID:-//Stratis iCal API//FR
CALSCALE:GREGORIAN
X-WR-CALNAME:Atelier couture 
BEGIN:VEVENT
UID:event-5001
SUMMARY:Atelier couture 
DESCRIPTION:Service culture et vie de campus rue Casimir Delavigne Le Havre
DTSTAMP:20220405T103130Z
DTSTART:20220407T150000Z
DTEND:20220407T170000Z
STATUS:CONFIRMED
SEQUENCE:2
BEGIN:VALARM
TRIGGER:-PT30M
DESCRIPTION:Atelier couture 
ACTION:DISPLAY
END:VALARM
END:VEVENT
END:VCALENDAR