BEGIN:VCALENDAR
VERSION:2.0
PRODID:-//Stratis iCal API//FR
CALSCALE:GREGORIAN
X-WR-CALNAME:Festival MoZ'aïque
BEGIN:VEVENT
UID:event-5027
SUMMARY:Festival MoZ'aïque
DESCRIPTION:MoZ’aïque vous accueille pour une 13ème édition particulièrement festive et conviviale aux jardins suspendus du 21 au 24 juillet.
DTSTAMP:20220711T080833Z
DTSTART:20220720T220000Z
DTEND:20220723T220000Z
STATUS:CONFIRMED
SEQUENCE:12
BEGIN:VALARM
TRIGGER:-PT30M
DESCRIPTION:Festival MoZ'aïque
ACTION:DISPLAY
END:VALARM
END:VEVENT
END:VCALENDAR