BEGIN:VCALENDAR
VERSION:2.0
PRODID:-//Stratis iCal API//FR
CALSCALE:GREGORIAN
X-WR-CALNAME:Festival Béton 
BEGIN:VEVENT
UID:event-5028
SUMMARY:Festival Béton 
DESCRIPTION:Le week-end Béton revient pour une 4ème édition les 26  27 et 28 août 2022. 
DTSTAMP:20220712T092849Z
DTSTART:20220825T220000Z
DTEND:20220827T220000Z
STATUS:CONFIRMED
SEQUENCE:9
BEGIN:VALARM
TRIGGER:-PT30M
DESCRIPTION:Festival Béton 
ACTION:DISPLAY
END:VALARM
END:VEVENT
END:VCALENDAR