BEGIN:VCALENDAR
VERSION:2.0
PRODID:-//Stratis iCal API//FR
CALSCALE:GREGORIAN
X-WR-CALNAME:La Nuit des étudiants du monde 
BEGIN:VEVENT
UID:event-5088
SUMMARY:La Nuit des étudiants du monde 
DESCRIPTION:Viens représenter ton pays !
DTSTAMP:20230711T144304Z
DTSTART:20231116T180000Z
DTEND:20231116T180000Z
STATUS:CONFIRMED
SEQUENCE:3
BEGIN:VALARM
TRIGGER:-PT30M
DESCRIPTION:La Nuit des étudiants du monde 
ACTION:DISPLAY
END:VALARM
END:VEVENT
END:VCALENDAR