BEGIN:VCALENDAR
VERSION:2.0
PRODID:-//Stratis iCal API//FR
CALSCALE:GREGORIAN
X-WR-CALNAME:Concert de musique classique unique : le Duo Shum
BEGIN:VEVENT
UID:event-5205
SUMMARY:Concert de musique classique unique : le Duo Shum
DESCRIPTION:L'ENSM  Ecole nationale supérieure maritime accueillera un concert de musique classique unique  le Duo Shum  dans le cadre des Escales du Classique  le 05 septembre 2024 à 18h30. 
DTSTAMP:20240724T132941Z
DTSTART:20240905T163000Z
DTEND:20240905T203000Z
STATUS:CONFIRMED
SEQUENCE:2
BEGIN:VALARM
TRIGGER:-PT30M
DESCRIPTION:Concert de musique classique unique : le Duo Shum
ACTION:DISPLAY
END:VALARM
END:VEVENT
END:VCALENDAR