BEGIN:VCALENDAR
VERSION:2.0
PRODID:-//Stratis iCal API//FR
CALSCALE:GREGORIAN
X-WR-CALNAME:Journées européennes du patrimoine 2024
BEGIN:VEVENT
UID:event-5213
SUMMARY:Journées européennes du patrimoine 2024
DESCRIPTION:Dans le cadre des Journées européennes du patrimoine  le Pays d'art et d'histoire vous propose de (re)découvrir le temps d'un week-end  les pépites architecturales et patrimoniales que recèlent nos territoires.
DTSTAMP:20240912T140532Z
DTSTART:20240920T220000Z
DTEND:20240921T220000Z
STATUS:CONFIRMED
SEQUENCE:2
BEGIN:VALARM
TRIGGER:-PT30M
DESCRIPTION:Journées européennes du patrimoine 2024
ACTION:DISPLAY
END:VALARM
END:VEVENT
END:VCALENDAR