BEGIN:VCALENDAR
VERSION:2.0
PRODID:-//Stratis iCal API//FR
CALSCALE:GREGORIAN
X-WR-CALNAME:Fête de la Science
BEGIN:VEVENT
UID:event-5217
SUMMARY:Fête de la Science
DESCRIPTION:L’Université Le Havre Normandie ouvre une fenêtre sur la recherche et la culture scientifique  pour le rendez-vous annuel des curieux et passionnés de science du bassin havrais.  
DTSTAMP:20241004T123117Z
DTSTART:20241009T220000Z
DTEND:20241011T220000Z
STATUS:CONFIRMED
SEQUENCE:2
BEGIN:VALARM
TRIGGER:-PT30M
DESCRIPTION:Fête de la Science
ACTION:DISPLAY
END:VALARM
END:VEVENT
END:VCALENDAR