BEGIN:VCALENDAR
VERSION:2.0
PRODID:-//Stratis iCal API//FR
CALSCALE:GREGORIAN
X-WR-CALNAME:Les Grandes Voiles du Havre 
BEGIN:VEVENT
UID:event-5232
SUMMARY:Les Grandes Voiles du Havre 
DESCRIPTION:Après l’immense succès de l’édition 2017  les plus grands voiliers du monde reviennent au Havre du 4 au 7 juillet 2025 pour le départ de la Tall Ships Races 2025. 
DTSTAMP:20250109T095922Z
DTSTART:20250703T220000Z
DTEND:20250706T220000Z
STATUS:CONFIRMED
SEQUENCE:5
BEGIN:VALARM
TRIGGER:-PT30M
DESCRIPTION:Les Grandes Voiles du Havre 
ACTION:DISPLAY
END:VALARM
END:VEVENT
END:VCALENDAR