BEGIN:VCALENDAR
VERSION:2.0
PRODID:-//Stratis iCal API//FR
CALSCALE:GREGORIAN
X-WR-CALNAME:Normandy Campus Tour
BEGIN:VEVENT
UID:event-5315
SUMMARY:Normandy Campus Tour
DESCRIPTION:En tant qu'étudiant au Havre  vous souhaitez explorer toutes les opportunités professionnelles qui s’offrent à vous ? Le Normandy Campus Tour débarque au Havre pour une soirée étudiante (gratuite) qui s’annonce mémorable ! Rendez-vous le jeudi 3 avril 2025 au Carré des Docks pour rencontrer des entreprises  échanger avec des professionnels et découvrir des projets inspirants.  
DTSTAMP:20250211T100208Z
DTSTART:20250403T163000Z
DTEND:20250403T210000Z
STATUS:CONFIRMED
SEQUENCE:5
BEGIN:VALARM
TRIGGER:-PT30M
DESCRIPTION:Normandy Campus Tour
ACTION:DISPLAY
END:VALARM
END:VEVENT
END:VCALENDAR