BEGIN:VCALENDAR
VERSION:2.0
PRODID:-//Stratis iCal API//FR
CALSCALE:GREGORIAN
X-WR-CALNAME:Les Voiles Etudiantes du Havre
BEGIN:VEVENT
UID:event-5329
SUMMARY:Les Voiles Etudiantes du Havre
DESCRIPTION:Assistez à la 14e édition des Voiles Étudiantes  un événement nautique incontournable qui attire chaque année plus de 150 participants venus de toute la France. Organisée par la Ligue de Voile de Normandie et soutenue par la Ville du Havre  cette régate étudiante promet de nombreux moments de sport et de fête.
DTSTAMP:20250218T142953Z
DTSTART:20250328T230000Z
DTEND:20250329T230000Z
STATUS:CONFIRMED
SEQUENCE:2
BEGIN:VALARM
TRIGGER:-PT30M
DESCRIPTION:Les Voiles Etudiantes du Havre
ACTION:DISPLAY
END:VALARM
END:VEVENT
END:VCALENDAR