BEGIN:VCALENDAR
VERSION:2.0
PRODID:-//Stratis iCal API//FR
CALSCALE:GREGORIAN
X-WR-CALNAME:Festival Béton Le Havre 2025
BEGIN:VEVENT
UID:event-5351
SUMMARY:Festival Béton Le Havre 2025
DESCRIPTION:Venez assister à trois jours d'exploration artistique  musicale et architecturale à travers la ville !
DTSTAMP:20250610T082431Z
DTSTART:20250918T220000Z
DTEND:20250920T220000Z
STATUS:CONFIRMED
SEQUENCE:4
BEGIN:VALARM
TRIGGER:-PT30M
DESCRIPTION:Festival Béton Le Havre 2025
ACTION:DISPLAY
END:VALARM
END:VEVENT
END:VCALENDAR