BEGIN:VCALENDAR
VERSION:2.0
PRODID:-//Stratis iCal API//FR
CALSCALE:GREGORIAN
X-WR-CALNAME:Festival Ouest Park 2025
BEGIN:VEVENT
UID:event-5355
SUMMARY:Festival Ouest Park 2025
DESCRIPTION:Ouest Park est de retour !
DTSTAMP:20250617T081626Z
DTSTART:20251016T220000Z
DTEND:20251017T220000Z
STATUS:CONFIRMED
SEQUENCE:2
BEGIN:VALARM
TRIGGER:-PT30M
DESCRIPTION:Festival Ouest Park 2025
ACTION:DISPLAY
END:VALARM
END:VEVENT
END:VCALENDAR