BEGIN:VCALENDAR
VERSION:2.0
PRODID:-//Stratis iCal API//FR
CALSCALE:GREGORIAN
X-WR-CALNAME:Exposition au Tetris
BEGIN:VEVENT
UID:event-4617
SUMMARY:Exposition au Tetris
DESCRIPTION:
DTSTAMP:20210107T111327Z
DTSTART:20210113T173000Z
DTEND:20210227T173000Z
STATUS:CONFIRMED
SEQUENCE:7
BEGIN:VALARM
TRIGGER:-PT30M
DESCRIPTION:Exposition au Tetris
ACTION:DISPLAY
END:VALARM
END:VEVENT
END:VCALENDAR