BEGIN:VCALENDAR
VERSION:2.0
PRODID:-//Stratis iCal API//FR
CALSCALE:GREGORIAN
X-WR-CALNAME:Cours de fitness #6
BEGIN:VEVENT
UID:event-4925
SUMMARY:Cours de fitness #6
DESCRIPTION:Résidence Caucriauville 
DTSTAMP:20220125T142316Z
DTSTART:20220222T173000Z
DTEND:20220222T190000Z
STATUS:CONFIRMED
SEQUENCE:5
BEGIN:VALARM
TRIGGER:-PT30M
DESCRIPTION:Cours de fitness #6
ACTION:DISPLAY
END:VALARM
END:VEVENT
END:VCALENDAR