BEGIN:VCALENDAR
VERSION:2.0
PRODID:-//Stratis iCal API//FR
CALSCALE:GREGORIAN
X-WR-CALNAME:Cours de danse Afro #7
BEGIN:VEVENT
UID:event-4932
SUMMARY:Cours de danse Afro #7
DESCRIPTION:Résidence de Caucriauville 
DTSTAMP:20220125T143021Z
DTSTART:20220228T173000Z
DTEND:20220228T190000Z
STATUS:CONFIRMED
SEQUENCE:6
BEGIN:VALARM
TRIGGER:-PT30M
DESCRIPTION:Cours de danse Afro #7
ACTION:DISPLAY
END:VALARM
END:VEVENT
END:VCALENDAR