BEGIN:VCALENDAR
VERSION:2.0
PRODID:-//Stratis iCal API//FR
CALSCALE:GREGORIAN
X-WR-CALNAME:Cours de danse Afro #10
BEGIN:VEVENT
UID:event-4937
SUMMARY:Cours de danse Afro #10
DESCRIPTION:Résidence Labédoyère 
DTSTAMP:20220125T143624Z
DTSTART:20220321T173000Z
DTEND:20220321T190000Z
STATUS:CONFIRMED
SEQUENCE:6
BEGIN:VALARM
TRIGGER:-PT30M
DESCRIPTION:Cours de danse Afro #10
ACTION:DISPLAY
END:VALARM
END:VEVENT
END:VCALENDAR