BEGIN:VCALENDAR
VERSION:2.0
PRODID:-//Stratis iCal API//FR
CALSCALE:GREGORIAN
X-WR-CALNAME:Atelier Cuisine  - Cuisine végétarienne 
BEGIN:VEVENT
UID:event-4941
SUMMARY:Atelier Cuisine  - Cuisine végétarienne 
DESCRIPTION:Résidence universitaire Clovis 
DTSTAMP:20220125T144123Z
DTSTART:20220316T180000Z
DTEND:20220316T210000Z
STATUS:CONFIRMED
SEQUENCE:5
BEGIN:VALARM
TRIGGER:-PT30M
DESCRIPTION:Atelier Cuisine  - Cuisine végétarienne 
ACTION:DISPLAY
END:VALARM
END:VEVENT
END:VCALENDAR