BEGIN:VCALENDAR
VERSION:2.0
PRODID:-//Stratis iCal API//FR
CALSCALE:GREGORIAN
X-WR-CALNAME:Tournoi FIFA 
BEGIN:VEVENT
UID:event-4945
SUMMARY:Tournoi FIFA 
DESCRIPTION:Service Culture et Vie de Campus rue Casimir Delavigne 
DTSTAMP:20220125T144912Z
DTSTART:20220224T200000Z
DTEND:20220224T225900Z
STATUS:CONFIRMED
SEQUENCE:5
BEGIN:VALARM
TRIGGER:-PT30M
DESCRIPTION:Tournoi FIFA 
ACTION:DISPLAY
END:VALARM
END:VEVENT
END:VCALENDAR