BEGIN:VCALENDAR
VERSION:2.0
PRODID:-//Stratis iCal API//FR
CALSCALE:GREGORIAN
X-WR-CALNAME:PARCOURS...TA VILLE #3
BEGIN:VEVENT
UID:event-4964
SUMMARY:PARCOURS...TA VILLE #3
DESCRIPTION:
DTSTAMP:20220217T100132Z
DTSTART:20220317T134500Z
DTEND:20220317T170000Z
STATUS:CONFIRMED
SEQUENCE:3
BEGIN:VALARM
TRIGGER:-PT30M
DESCRIPTION:PARCOURS...TA VILLE #3
ACTION:DISPLAY
END:VALARM
END:VEVENT
END:VCALENDAR