BEGIN:VCALENDAR
VERSION:2.0
PRODID:-//Stratis iCal API//FR
CALSCALE:GREGORIAN
X-WR-CALNAME:L'Hémicycle - Devenez député(e) ! 
BEGIN:VEVENT
UID:event-4968
SUMMARY:L'Hémicycle - Devenez député(e) ! 
DESCRIPTION:
DTSTAMP:20220221T152715Z
DTSTART:20230128T080000Z
DTEND:20230129T130000Z
STATUS:CONFIRMED
SEQUENCE:7
BEGIN:VALARM
TRIGGER:-PT30M
DESCRIPTION:L'Hémicycle - Devenez député(e) ! 
ACTION:DISPLAY
END:VALARM
END:VEVENT
END:VCALENDAR