BEGIN:VCALENDAR
VERSION:2.0
PRODID:-//Stratis iCal API//FR
CALSCALE:GREGORIAN
X-WR-CALNAME:Présentation du Mastère "Developpeur IoT" (Bac+5) 
BEGIN:VEVENT
UID:event-4979
SUMMARY:Présentation du Mastère "Developpeur IoT" (Bac+5) 
DESCRIPTION:Webinaire 
DTSTAMP:20220303T140643Z
DTSTART:20220309T170000Z
DTEND:20220309T180000Z
STATUS:CONFIRMED
SEQUENCE:1
BEGIN:VALARM
TRIGGER:-PT30M
DESCRIPTION:Présentation du Mastère "Developpeur IoT" (Bac+5) 
ACTION:DISPLAY
END:VALARM
END:VEVENT
END:VCALENDAR