BEGIN:VCALENDAR
VERSION:2.0
PRODID:-//Stratis iCal API//FR
CALSCALE:GREGORIAN
X-WR-CALNAME:Campus Infos Santé - Soirée Prévention sexuelle 
BEGIN:VEVENT
UID:event-4993
SUMMARY:Campus Infos Santé - Soirée Prévention sexuelle 
DESCRIPTION:
DTSTAMP:20220330T082557Z
DTSTART:20220406T160000Z
DTEND:20220406T180000Z
STATUS:CONFIRMED
SEQUENCE:1
BEGIN:VALARM
TRIGGER:-PT30M
DESCRIPTION:Campus Infos Santé - Soirée Prévention sexuelle 
ACTION:DISPLAY
END:VALARM
END:VEVENT
END:VCALENDAR