BEGIN:VCALENDAR
VERSION:2.0
PRODID:-//Stratis iCal API//FR
CALSCALE:GREGORIAN
X-WR-CALNAME:Les métiers en Tournée 
BEGIN:VEVENT
UID:event-4997
SUMMARY:Les métiers en Tournée 
DESCRIPTION:L'Agence Régionale de l'Orientation et des Métiers se déplace au plus près des normands pour leur proposer un parcours immersif au coeur des métiers ! Quelque soit votre profil  Collégien  Lycéen  Etudiant  Adulte  l'Agence vous propose des ateliers à la carte pour vous (ré)orienter et découvrir les filières d'excellence normandes.
DTSTAMP:20220330T090500Z
DTSTART:20220405T073000Z
DTEND:20220406T160000Z
STATUS:CONFIRMED
SEQUENCE:1
BEGIN:VALARM
TRIGGER:-PT30M
DESCRIPTION:Les métiers en Tournée 
ACTION:DISPLAY
END:VALARM
END:VEVENT
END:VCALENDAR