BEGIN:VCALENDAR
VERSION:2.0
PRODID:-//Stratis iCal API//FR
CALSCALE:GREGORIAN
X-WR-CALNAME:Salon de la création d'entreprise 
BEGIN:VEVENT
UID:event-5015
SUMMARY:Salon de la création d'entreprise 
DESCRIPTION:
DTSTAMP:20220420T085502Z
DTSTART:20220428T110000Z
DTEND:20220428T183000Z
STATUS:CONFIRMED
SEQUENCE:1
BEGIN:VALARM
TRIGGER:-PT30M
DESCRIPTION:Salon de la création d'entreprise 
ACTION:DISPLAY
END:VALARM
END:VEVENT
END:VCALENDAR