BEGIN:VCALENDAR
VERSION:2.0
PRODID:-//Stratis iCal API//FR
CALSCALE:GREGORIAN
X-WR-CALNAME:Blind Test ! Spécial séries et dessins animés 
BEGIN:VEVENT
UID:event-5018
SUMMARY:Blind Test ! Spécial séries et dessins animés 
DESCRIPTION:
DTSTAMP:20220502T080058Z
DTSTART:20220519T180000Z
DTEND:20220519T200000Z
STATUS:CONFIRMED
SEQUENCE:2
BEGIN:VALARM
TRIGGER:-PT30M
DESCRIPTION:Blind Test ! Spécial séries et dessins animés 
ACTION:DISPLAY
END:VALARM
END:VEVENT
END:VCALENDAR