BEGIN:VCALENDAR
VERSION:2.0
PRODID:-//Stratis iCal API//FR
CALSCALE:GREGORIAN
X-WR-CALNAME:La Course des Baignoires 
BEGIN:VEVENT
UID:event-5019
SUMMARY:La Course des Baignoires 
DESCRIPTION:La mythique Course des Baignoires est de retour ! 
DTSTAMP:20220502T083642Z
DTSTART:20220519T113000Z
DTEND:20220519T160000Z
STATUS:CONFIRMED
SEQUENCE:1
BEGIN:VALARM
TRIGGER:-PT30M
DESCRIPTION:La Course des Baignoires 
ACTION:DISPLAY
END:VALARM
END:VEVENT
END:VCALENDAR