BEGIN:VCALENDAR
VERSION:2.0
PRODID:-//Stratis iCal API//FR
CALSCALE:GREGORIAN
X-WR-CALNAME:Sur les épaules des géants 
BEGIN:VEVENT
UID:event-5037
SUMMARY:Sur les épaules des géants 
DESCRIPTION:Du 22 au 24 septembre  la diffusion des savoirs et le goût des sciences seront au cœur de la nouvelle manifestation culturelle proposée par la Ville du Havre  en partenariat avec le Collège de France  le CNRS et l’Université Le Havre Normandie.
DTSTAMP:20220923T081023Z
DTSTART:20220921T220000Z
DTEND:20220923T220000Z
STATUS:CONFIRMED
SEQUENCE:14
BEGIN:VALARM
TRIGGER:-PT30M
DESCRIPTION:Sur les épaules des géants 
ACTION:DISPLAY
END:VALARM
END:VEVENT
END:VCALENDAR