BEGIN:VCALENDAR
VERSION:2.0
PRODID:-//Stratis iCal API//FR
CALSCALE:GREGORIAN
X-WR-CALNAME:Salon de L'Etudiant 2023
BEGIN:VEVENT
UID:event-5095
SUMMARY:Salon de L'Etudiant 2023
DESCRIPTION:Le samedi 18 novembre se déroulera le Salon de l’Etudiant au Carré des Docks de 10h à 18h. Organisé au cœur du campus Le Havre-Normandie  ce salon est dédié à l’orientation des jeunes pour les aider à bâtir leurs projets d’avenir.
DTSTAMP:20230713T115541Z
DTSTART:20231118T090000Z
DTEND:20231118T170000Z
STATUS:CONFIRMED
SEQUENCE:10
BEGIN:VALARM
TRIGGER:-PT30M
DESCRIPTION:Salon de L'Etudiant 2023
ACTION:DISPLAY
END:VALARM
END:VEVENT
END:VCALENDAR