BEGIN:VCALENDAR
VERSION:2.0
PRODID:-//Stratis iCal API//FR
CALSCALE:GREGORIAN
X-WR-CALNAME:Forum jobs d'été 2024
BEGIN:VEVENT
UID:event-5115
SUMMARY:Forum jobs d'été 2024
DESCRIPTION:Le service jeunesse et vie associative de la ville du Havre organise le "Forum jobs d'été" le jeudi 14 mars 2024 de 12h à 17h  au forum de l'Hôtel de ville du Havre.  
DTSTAMP:20240311T152307Z
DTSTART:20240314T110000Z
DTEND:20240314T160000Z
STATUS:CONFIRMED
SEQUENCE:1
BEGIN:VALARM
TRIGGER:-PT30M
DESCRIPTION:Forum jobs d'été 2024
ACTION:DISPLAY
END:VALARM
END:VEVENT
END:VCALENDAR