BEGIN:VCALENDAR
VERSION:2.0
PRODID:-//Stratis iCal API//FR
CALSCALE:GREGORIAN
X-WR-CALNAME:Salon de l'Alternance 2024
BEGIN:VEVENT
UID:event-5120
SUMMARY:Salon de l'Alternance 2024
DESCRIPTION:Rencontrez des employeurs et/ou des organismes de formation afin de trouver votre contrat d’alternance pour la rentrée 2024. L'évènement se tiendra le 4 avril de 13h à 19h à la CCI Seine Estuaire du Havre.   
DTSTAMP:20240312T111753Z
DTSTART:20240404T110000Z
DTEND:20240404T170000Z
STATUS:CONFIRMED
SEQUENCE:1
BEGIN:VALARM
TRIGGER:-PT30M
DESCRIPTION:Salon de l'Alternance 2024
ACTION:DISPLAY
END:VALARM
END:VEVENT
END:VCALENDAR