BEGIN:VCALENDAR
VERSION:2.0
PRODID:-//Stratis iCal API//FR
CALSCALE:GREGORIAN
X-WR-CALNAME:Course de l'Amazone
BEGIN:VEVENT
UID:event-5121
SUMMARY:Course de l'Amazone
DESCRIPTION:Venez participer à l'Amazone le dimanche 2 juin pour soutenir la lutte contre le cancer du sein.  Pour sa 16e édition  L’amazone vous invite à BRILLER ! Ambiance strass  paillettes  métallisé  holographique…  Alors inscrivez vous avant le 30 avril !
DTSTAMP:20240312T124040Z
DTSTART:20240602T060000Z
DTEND:20240602T100000Z
STATUS:CONFIRMED
SEQUENCE:1
BEGIN:VALARM
TRIGGER:-PT30M
DESCRIPTION:Course de l'Amazone
ACTION:DISPLAY
END:VALARM
END:VEVENT
END:VCALENDAR