BEGIN:VCALENDAR
VERSION:2.0
PRODID:-//Stratis iCal API//FR
CALSCALE:GREGORIAN
X-WR-CALNAME:Sur les épaules des géants
BEGIN:VEVENT
UID:event-5123
SUMMARY:Sur les épaules des géants
DESCRIPTION:Du 26 au 28 septembre 2024 se tiendra la troisième édition de la manifestation scientifique "Sur les épaules des géants". Cet évènement  dédié à la culture scientifique  autour de la thématique de la lumière  est organisé par la ville du Havre  en partenariat avec le CNRS  le Collège de France  Universcience  le CNES  le CEA et l’Université Le Havre-Normandie. Alors  venez voir ces géants ! 
DTSTAMP:20240313T083159Z
DTSTART:20240925T220000Z
DTEND:20240927T220000Z
STATUS:CONFIRMED
SEQUENCE:1
BEGIN:VALARM
TRIGGER:-PT30M
DESCRIPTION:Sur les épaules des géants
ACTION:DISPLAY
END:VALARM
END:VEVENT
END:VCALENDAR