BEGIN:VCALENDAR
VERSION:2.0
PRODID:-//Stratis iCal API//FR
CALSCALE:GREGORIAN
X-WR-CALNAME:La Flamme Olympique
BEGIN:VEVENT
UID:event-5126
SUMMARY:La Flamme Olympique
DESCRIPTION:A l'occasion des Jeux Olympiques de Paris  la Flamme Olympique sera accueilli dans de nombreuses villes en France. La Ville du Havre a été sélectionnée comme ville de célébration : elle accueillera ainsi la dernière étape de la Flamme lors de son parcours en Seine-Maritime. Pour cet évènement qui mettra en lumière la ville du Havre  une parade est prévue ainsi que des animations gratuites. 
DTSTAMP:20240313T091408Z
DTSTART:20240704T220000Z
DTEND:20240704T220000Z
STATUS:CONFIRMED
SEQUENCE:2
BEGIN:VALARM
TRIGGER:-PT30M
DESCRIPTION:La Flamme Olympique
ACTION:DISPLAY
END:VALARM
END:VEVENT
END:VCALENDAR