BEGIN:VCALENDAR
VERSION:2.0
PRODID:-//Stratis iCal API//FR
CALSCALE:GREGORIAN
X-WR-CALNAME:Week-end de la glisse
BEGIN:VEVENT
UID:event-5127
SUMMARY:Week-end de la glisse
DESCRIPTION:Etape 4 de FISE Xperience Series : Le Havre.   Pendant 3 jours  les sports d'action seront à l'honneur : Skateboard  Trottinette  et/ou BMX.   Retrouvez  du 30 aout au 1er septembre  les pros de la glisse sur l'Esplanade de la plage.   
DTSTAMP:20240313T092757Z
DTSTART:20240829T220000Z
DTEND:20240831T220000Z
STATUS:CONFIRMED
SEQUENCE:1
BEGIN:VALARM
TRIGGER:-PT30M
DESCRIPTION:Week-end de la glisse
ACTION:DISPLAY
END:VALARM
END:VEVENT
END:VCALENDAR