BEGIN:VCALENDAR
VERSION:2.0
PRODID:-//Stratis iCal API//FR
CALSCALE:GREGORIAN
X-WR-CALNAME:Salon de l'étudiant Paris
BEGIN:VEVENT
UID:event-5129
SUMMARY:Salon de l'étudiant Paris
DESCRIPTION:Du 15 au 17 novembre  le Campus Le Havre-Normandie sera présent avec son stand au Salon de l'Etudiant à Paris.   Vous obtiendrez toutes les informations sur les formations  les conditions d'admissions  les programmes  les stages  les débouchés ou les poursuites d'études du Havre. 
DTSTAMP:20240313T100341Z
DTSTART:20241114T230000Z
DTEND:20241116T230000Z
STATUS:CONFIRMED
SEQUENCE:3
BEGIN:VALARM
TRIGGER:-PT30M
DESCRIPTION:Salon de l'étudiant Paris
ACTION:DISPLAY
END:VALARM
END:VEVENT
END:VCALENDAR