BEGIN:VCALENDAR
VERSION:2.0
PRODID:-//Stratis iCal API//FR
CALSCALE:GREGORIAN
X-WR-CALNAME:Festival Ouest Park
BEGIN:VEVENT
UID:event-5131
SUMMARY:Festival Ouest Park
DESCRIPTION:Le festival Ouest Park 2024 revient fin octobre au Fort de Tourneville  au Havre. Un évènement qui s’annonce haut en couleur pour 4 jours de festival sur 4 scènes en intérieur et en extérieur.  La programmation de cette 21ème édition sera annoncée dans les mois à venir.
DTSTAMP:20240313T101416Z
DTSTART:20241015T220000Z
DTEND:20241019T220000Z
STATUS:CONFIRMED
SEQUENCE:4
BEGIN:VALARM
TRIGGER:-PT30M
DESCRIPTION:Festival Ouest Park
ACTION:DISPLAY
END:VALARM
END:VEVENT
END:VCALENDAR