BEGIN:VCALENDAR
VERSION:2.0
PRODID:-//Stratis iCal API//FR
CALSCALE:GREGORIAN
X-WR-CALNAME:Fête du cirque 
BEGIN:VEVENT
UID:event-5139
SUMMARY:Fête du cirque 
DESCRIPTION:La Fête du Cirque revient les 31 mai  1er et 2 juin 2024  avec un hors-d’œuvre le 28 mai  pour sa 12ᵉ édition dans le parc de Gromesnil à Saint-Romain-de-Colbosc.   Depuis 2011  La Fête du Cirque a su réunir petits et grands dans une ambiance familiale  chaleureuse et festive. 
DTSTAMP:20240318T152639Z
DTSTART:20240531T173000Z
DTEND:20240602T170000Z
STATUS:CONFIRMED
SEQUENCE:4
BEGIN:VALARM
TRIGGER:-PT30M
DESCRIPTION:Fête du cirque 
ACTION:DISPLAY
END:VALARM
END:VEVENT
END:VCALENDAR