BEGIN:VCALENDAR
VERSION:2.0
PRODID:-//Stratis iCal API//FR
CALSCALE:GREGORIAN
X-WR-CALNAME:Normandie Impressionniste
BEGIN:VEVENT
UID:event-5141
SUMMARY:Normandie Impressionniste
DESCRIPTION:Le Festival Normandie Impressionniste revient pour célébrer les 150 ans de ce mouvement artistique du 22 mars au 22 septembre 2024. Art  culture  innovation : 150 événements à ne pas manquer ! Et en guest stars  des sommités de la culture contemporaine : David Hockney et Bob Wilson. 
DTSTAMP:20240318T153530Z
DTSTART:20240321T230000Z
DTEND:20240921T220000Z
STATUS:CONFIRMED
SEQUENCE:1
BEGIN:VALARM
TRIGGER:-PT30M
DESCRIPTION:Normandie Impressionniste
ACTION:DISPLAY
END:VALARM
END:VEVENT
END:VCALENDAR