BEGIN:VCALENDAR
VERSION:2.0
PRODID:-//Stratis iCal API//FR
CALSCALE:GREGORIAN
X-WR-CALNAME:La Clos'end
BEGIN:VEVENT
UID:event-5145
SUMMARY:La Clos'end
DESCRIPTION:La Clos 'End revient cette année le 7 juin pour fêter la fin de l'année scolaire et le début des vacances !  Au programme : boutiques  dj set  restauration  buvette et bien d'autres surprises !    Alors  retrouvez vous sur la terrasse de l'EM Normandie le 7 juin dés 18h !     Ouvert à tous les étudiants
DTSTAMP:20240327T140902Z
DTSTART:20240607T160000Z
DTEND:20240608T000000Z
STATUS:CONFIRMED
SEQUENCE:2
BEGIN:VALARM
TRIGGER:-PT30M
DESCRIPTION:La Clos'end
ACTION:DISPLAY
END:VALARM
END:VEVENT
END:VCALENDAR