BEGIN:VCALENDAR
VERSION:2.0
PRODID:-//Stratis iCal API//FR
CALSCALE:GREGORIAN
X-WR-CALNAME:Festival Impact !
BEGIN:VEVENT
UID:event-5146
SUMMARY:Festival Impact !
DESCRIPTION:Le festival Impact revient pour une 2ème édition !  Pour cette seconde édition organisée par le service culturel de l’université Le Havre Normandie  la programmation se veut féminine et féminisme. Au programme : des artistes et intervenantes viendront questionner et promouvoir la représentation des femmes dans les cultures urbaines.  Retrouvez le festival du 2 au 4 avril à la Maison de l'Etudiant !    Gratuit et ouvert à tous les étudiants !
DTSTAMP:20240327T152353Z
DTSTART:20240401T220000Z
DTEND:20240403T220000Z
STATUS:CONFIRMED
SEQUENCE:2
BEGIN:VALARM
TRIGGER:-PT30M
DESCRIPTION:Festival Impact !
ACTION:DISPLAY
END:VALARM
END:VEVENT
END:VCALENDAR