BEGIN:VCALENDAR
VERSION:2.0
PRODID:-//Stratis iCal API//FR
CALSCALE:GREGORIAN
X-WR-CALNAME:Yellow Run
BEGIN:VEVENT
UID:event-5152
SUMMARY:Yellow Run
DESCRIPTION:Enfilez votre accessoire jaune et préparez-vous  que ce soit en solo ou en compagnie de vos camarades sportifs  à vivre l'expérience de La Yellow Run Poudrée. Cette course/marche de 6KM débute et se termine sous l’iconique arche de conteneurs du Havre  où la poudre colorée se mêle à la solidarité.  HUMANI'TERRE
DTSTAMP:20240403T142856Z
DTSTART:20240519T063000Z
DTEND:20240519T103000Z
STATUS:CONFIRMED
SEQUENCE:1
BEGIN:VALARM
TRIGGER:-PT30M
DESCRIPTION:Yellow Run
ACTION:DISPLAY
END:VALARM
END:VEVENT
END:VCALENDAR