BEGIN:VCALENDAR
VERSION:2.0
PRODID:-//Stratis iCal API//FR
CALSCALE:GREGORIAN
X-WR-CALNAME:Forum Job Inclusion
BEGIN:VEVENT
UID:event-5155
SUMMARY:Forum Job Inclusion
DESCRIPTION:L'Université Le Havre Normandie organise le Forum Job Inclusion le 11 avril 2024 (10h-17h) à destination des étudiants en situation de handicap.   Ce forum proposera stages  jobs d'été et alternances sur reconnaissance MDPH ou aménagement d'études.   
DTSTAMP:20240408T084629Z
DTSTART:20240411T080000Z
DTEND:20240411T150000Z
STATUS:CONFIRMED
SEQUENCE:1
BEGIN:VALARM
TRIGGER:-PT30M
DESCRIPTION:Forum Job Inclusion
ACTION:DISPLAY
END:VALARM
END:VEVENT
END:VCALENDAR