BEGIN:VCALENDAR
VERSION:2.0
PRODID:-//Stratis iCal API//FR
CALSCALE:GREGORIAN
X-WR-CALNAME:Roadshow : Mes tips santé
BEGIN:VEVENT
UID:event-5189
SUMMARY:Roadshow : Mes tips santé
DESCRIPTION:Cet événement destiné aux 18-25 ans aura pour objectif de promouvoir l’accès aux droits  mais aussi les démarches de prévention en santé à travers la promotion du compte Instagram @mes_tips_santé. Le Roadshow proposera un moment de convivialité ludique pour les étudiants.
DTSTAMP:20240528T121635Z
DTSTART:20241016T220000Z
DTEND:20241016T220000Z
STATUS:CONFIRMED
SEQUENCE:2
BEGIN:VALARM
TRIGGER:-PT30M
DESCRIPTION:Roadshow : Mes tips santé
ACTION:DISPLAY
END:VALARM
END:VEVENT
END:VCALENDAR